BEGIN:VCALENDAR
VERSION:2.0
PRODID:-//Teaching + Learning Lab - ECPv6.15.20//NONSGML v1.0//EN
CALSCALE:GREGORIAN
METHOD:PUBLISH
X-WR-CALNAME:Teaching + Learning Lab
X-ORIGINAL-URL:https://tll.mit.edu
X-WR-CALDESC:Events for Teaching + Learning Lab
REFRESH-INTERVAL;VALUE=DURATION:PT1H
X-Robots-Tag:noindex
X-PUBLISHED-TTL:PT1H
BEGIN:VTIMEZONE
TZID:America/New_York
BEGIN:DAYLIGHT
TZOFFSETFROM:-0500
TZOFFSETTO:-0400
TZNAME:EDT
DTSTART:20200308T070000
END:DAYLIGHT
BEGIN:STANDARD
TZOFFSETFROM:-0400
TZOFFSETTO:-0500
TZNAME:EST
DTSTART:20201101T060000
END:STANDARD
BEGIN:DAYLIGHT
TZOFFSETFROM:-0500
TZOFFSETTO:-0400
TZNAME:EDT
DTSTART:20210314T070000
END:DAYLIGHT
BEGIN:STANDARD
TZOFFSETFROM:-0400
TZOFFSETTO:-0500
TZNAME:EST
DTSTART:20211107T060000
END:STANDARD
BEGIN:DAYLIGHT
TZOFFSETFROM:-0500
TZOFFSETTO:-0400
TZNAME:EDT
DTSTART:20220313T070000
END:DAYLIGHT
BEGIN:STANDARD
TZOFFSETFROM:-0400
TZOFFSETTO:-0500
TZNAME:EST
DTSTART:20221106T060000
END:STANDARD
END:VTIMEZONE
BEGIN:VEVENT
DTSTART;TZID=America/New_York:20210114T143000
DTEND;TZID=America/New_York:20210128T160000
DTSTAMP:20260421T123238
CREATED:20201203T174627Z
LAST-MODIFIED:20201216T175433Z
UID:2084-1610634600-1611849600@tll.mit.edu
SUMMARY:Lesson Planning Track
DESCRIPTION:Lesson Planning Track\n\n\n\nThe Lesson Planning Track is a sequence of 3 workshops focused on preparing an effective lesson plan for a class session or recitation\, developing skills for classroom presentation and effective classroom activities\, and giving formative feedback to students. Over the course of the workshop track\, participants develop a detailed lesson plan on a topic of their choice with feedback from the instructor. \n\n\n\nApplications for the IAP 2021 session of the Lesson Planning Track open at 12:00 noon ET on Wednesday\, Dec. 9. Workshops will take place on the following days and times \n\n\n\nWorkshop 1: Facilitating Learning\, Thursday\, Jan. 14\, 2:30-4:00 ETWorkshop 2: Planning for Learning\, Thursday\, Jan. 21\, 2:30-4:00 ETWorkshop 3: Feedback and Learning\, Thursday\, Jan. 28\, 2:30-4:00 ET\n\n\n\nTo complete the track and receive a letter of completion\, participants must attend all 3 workshops and complete required out-of-class work. \n\n\n\n\n\n\n\nEligibility & selection criteria\n\n\n\nPriority is first given to those who have completed a prior workshop track and then to those who anticipate a teaching or TA appointment within the next 2 semesters. The remaining applications will be selected on a first-come\, first-served basis. Applications must be received by the deadline to be considered. \n\n\n\n\n\n\n\nApplications\n\n\n\nApplications are now closed (as of Wednesday\, 12/16/2020 at noon). Go to Grad Teaching Development Tracks to learn more our this program and find answers to frequently asked questions.
URL:https://tll.mit.edu/event/lesson-planning-track/
LOCATION:Virtual
CATEGORIES:Teaching Development Workshops
ATTACH;FMTTYPE=image/jpeg:https://tll.mit.edu/wp-content/uploads/2020/12/kelly-sikkema-jr61kHaWKek-unsplash-scaled-e1607026592919.jpg
ORGANIZER;CN="Ryan MacDowell":MAILTO:rymac@mit.edu
END:VEVENT
END:VCALENDAR