BEGIN:VCALENDAR
VERSION:2.0
PRODID:-//Teaching + Learning Lab - ECPv6.15.20//NONSGML v1.0//EN
CALSCALE:GREGORIAN
METHOD:PUBLISH
X-ORIGINAL-URL:https://tll.mit.edu
X-WR-CALDESC:Events for Teaching + Learning Lab
REFRESH-INTERVAL;VALUE=DURATION:PT1H
X-Robots-Tag:noindex
X-PUBLISHED-TTL:PT1H
BEGIN:VTIMEZONE
TZID:America/New_York
BEGIN:DAYLIGHT
TZOFFSETFROM:-0500
TZOFFSETTO:-0400
TZNAME:EDT
DTSTART:20220313T070000
END:DAYLIGHT
BEGIN:STANDARD
TZOFFSETFROM:-0400
TZOFFSETTO:-0500
TZNAME:EST
DTSTART:20221106T060000
END:STANDARD
BEGIN:DAYLIGHT
TZOFFSETFROM:-0500
TZOFFSETTO:-0400
TZNAME:EDT
DTSTART:20230312T070000
END:DAYLIGHT
BEGIN:STANDARD
TZOFFSETFROM:-0400
TZOFFSETTO:-0500
TZNAME:EST
DTSTART:20231105T060000
END:STANDARD
BEGIN:DAYLIGHT
TZOFFSETFROM:-0500
TZOFFSETTO:-0400
TZNAME:EDT
DTSTART:20240310T070000
END:DAYLIGHT
BEGIN:STANDARD
TZOFFSETFROM:-0400
TZOFFSETTO:-0500
TZNAME:EST
DTSTART:20241103T060000
END:STANDARD
END:VTIMEZONE
BEGIN:VEVENT
DTSTART;TZID=America/New_York:20230801T120000
DTEND;TZID=America/New_York:20230820T235900
DTSTAMP:20260423T170602
CREATED:20230801T160000Z
LAST-MODIFIED:20240628T171508Z
UID:6858-1690891200-1692575940@tll.mit.edu
SUMMARY:NOW OPEN! Application Period for the Fall 2023 Kaufman Teaching Certificate Program (KTCP)
DESCRIPTION:The Kaufman Teaching Certificate Program (KTCP) is an interactive workshop series intended for late-program graduate students and postdocs interested in academic careers or developing skills to support their teaching at MIT. \n\n\n\nThe application includes these two short-answer questions. You may wish to draft your answers (1500 character limit for each) before beginning your application. \n\n\n\n\nDescribe your teaching responsibilities in the next two semesters (If applicable).\n\n\n\nWhat are two teaching practices or skills you hope to learn by completing this program?\n\n\n\n\nTo learn more\, review the program schedule\, and find answers to frequently asked questions\, please see our dedicated KTCP page. \n\n\n\nPriority will be given to applicants who will have fewer future opportunities to participate in the program (e.g.\, final year grad students\, postdocs\, etc.)  \n\n\n\n \n\n\n\nApplications must be received by 11:59 PM ET on August 20. \n\n\n\nIf you have additional questions or encounter difficulty with the application\, please contact Dan Nocivelli. (Please note that the application button will not work until the application period begins.)
URL:https://tll.mit.edu/event/fall-2023-ktcp/
CATEGORIES:KTCP
ATTACH;FMTTYPE=image/jpeg:https://tll.mit.edu/wp-content/uploads/2022/11/KTCP-Grad-Celebration136-1024x512-1.jpg
END:VEVENT
BEGIN:VEVENT
DTSTART;TZID=America/New_York:20230814T080000
DTEND;TZID=America/New_York:20230831T160000
DTSTAMP:20260423T170602
CREATED:20230814T120000Z
LAST-MODIFIED:20240628T171436Z
UID:6899-1692000000-1693497600@tll.mit.edu
SUMMARY:Registration for IAP 2023 TA Days NOW OPEN.
DESCRIPTION:Summer 2023 TA Days: Monday\, August 28\, through Thursday\, August 31. \n\n\n\nBefore the start of each semester\, TLL offers a series of workshops for TAs to help them prepare for the roles and responsibilities of the position of teaching at MIT. Topics include giving feedback\, presenting a class session\, and facilitating office hours\, among other practical subjects related to teaching. Please visit our TA Days page to view the full schedule and detailed descriptions of the workshops. Registration is now open via Canvas. (Link below.) \n\n\n\nPlease note that the Summer 2023 TA Days schedule includes a mix of in-person and online sessions. All workshops held on campus will take place in 2-190.
URL:https://tll.mit.edu/event/registration-for-iap-2023-ta-days-now-open/
CATEGORIES:Teaching Days
ATTACH;FMTTYPE=image/jpeg:https://tll.mit.edu/wp-content/uploads/2023/01/TA-Days-chalkboard-featured.jpg
END:VEVENT
BEGIN:VEVENT
DTSTART;TZID=America/New_York:20230814T120000
DTEND;TZID=America/New_York:20230820T235900
DTSTAMP:20260423T170602
CREATED:20230814T160000Z
LAST-MODIFIED:20240628T172320Z
UID:6887-1692014400-1692575940@tll.mit.edu
SUMMARY:Application Period for the Fall 2023 Lesson Planning Track
DESCRIPTION:About the Program\n\n\n\nThe Lesson Planning Track is a sequence of 3 workshops focused on preparing an effective lesson plan for a class session or recitation\, developing skills for classroom presentation and effective classroom activities\, and giving formative feedback to students. Over the course of the workshop track\, participants develop a detailed lesson plan on a topic of their choice with feedback from the instructor.  \n\n\n\n\n\n\n\nWorkshop Schedule\n\n\n\n\nFacilitating Learning\n\n\n\nTuesday\, Sep 5\, from 2- 4 pm (ET)  \n\n\n\nIntended Learning Outcomes: \n\n\n\n\nDescribe the benefits of implementing ILO-aligned active learning strategies in the classroom.\n\n\n\nIdentify the specific benefits and challenges of implementing a particular active learning strategy\n\n\n\nDesign opportunities for practice that engage students cognitively and align with desired ILOs through the use of active learning strategies.\n\n\n\nReduce barriers to inclusion by intentionally using a variety of active learning techniques with attentiveness to implementation details.\n\n\n\n\n\n\n\n\n\n\nPlanning for Learning\n\n\n\nTuesday\, Sep 12\, from 2- 4 pm (ET)  \n\n\n\nIntended Learning Outcomes: \n\n\n\n\nDescribe the impact that prior content knowledge\, previously mastered skills\, and beliefs about learning have on how students learn  \n\n\n\nList some strategies to ascertain students’ prior knowledge\, skills\, and beliefs. \n\n\n\nUse scaffolding and an understanding of prior knowledge and skills to sketch an outline of a class session that includes active learning.\n\n\n\n\n\n\n\n\n\n\nEffective Feedback\n\n\n\nTuesday\, Sep 19\, from 2- 4 pm (ET)  \n\n\n\nIntended Learning Outcomes: \n\n\n\n\nDescribe the characteristics of effective feedback. \n\n\n\nExplain how cultivating a growth mindset in your students can foster resilience and increase academic performance. \n\n\n\nProvide targeted and growth-oriented feedback.\n\n\n\n\n\nTo complete the track and receive a letter of completion\, participants must attend all three workshops and complete the required out-of-class work. \n\n\n\n\n\n\n\nHow to Apply\n\n\n\nAny graduate student is welcome to apply. Participants from previous workshop tracks have priority. After that\, applicants are selected on a first-come\, first-served basis\, so please apply early. Applications must be received by 11:59 pm Sunday\, August 20\, to be considered.
URL:https://tll.mit.edu/event/app-fall-23-lpt/
CATEGORIES:tracks
ATTACH;FMTTYPE=image/jpeg:https://tll.mit.edu/wp-content/uploads/2023/03/LPT.jpg
END:VEVENT
END:VCALENDAR