BEGIN:VCALENDAR
VERSION:2.0
PRODID:-//Teaching + Learning Lab - ECPv6.15.20//NONSGML v1.0//EN
CALSCALE:GREGORIAN
METHOD:PUBLISH
X-ORIGINAL-URL:https://tll.mit.edu
X-WR-CALDESC:Events for Teaching + Learning Lab
REFRESH-INTERVAL;VALUE=DURATION:PT1H
X-Robots-Tag:noindex
X-PUBLISHED-TTL:PT1H
BEGIN:VTIMEZONE
TZID:America/New_York
BEGIN:DAYLIGHT
TZOFFSETFROM:-0500
TZOFFSETTO:-0400
TZNAME:EDT
DTSTART:20190310T070000
END:DAYLIGHT
BEGIN:STANDARD
TZOFFSETFROM:-0400
TZOFFSETTO:-0500
TZNAME:EST
DTSTART:20191103T060000
END:STANDARD
BEGIN:DAYLIGHT
TZOFFSETFROM:-0500
TZOFFSETTO:-0400
TZNAME:EDT
DTSTART:20200308T070000
END:DAYLIGHT
BEGIN:STANDARD
TZOFFSETFROM:-0400
TZOFFSETTO:-0500
TZNAME:EST
DTSTART:20201101T060000
END:STANDARD
BEGIN:DAYLIGHT
TZOFFSETFROM:-0500
TZOFFSETTO:-0400
TZNAME:EDT
DTSTART:20210314T070000
END:DAYLIGHT
BEGIN:STANDARD
TZOFFSETFROM:-0400
TZOFFSETTO:-0500
TZNAME:EST
DTSTART:20211107T060000
END:STANDARD
END:VTIMEZONE
BEGIN:VEVENT
DTSTART;TZID=America/New_York:20201112T130000
DTEND;TZID=America/New_York:20201112T134500
DTSTAMP:20260423T012529
CREATED:20201105T182645Z
LAST-MODIFIED:20211014T185254Z
UID:1854-1605186000-1605188700@tll.mit.edu
SUMMARY:Leading with data: overcoming the data divides
DESCRIPTION:Data work is often thrust upon teams of people who already have a day job. Data teams are thrown together and data leaders have to overcome various data divides. This session will explore the evidence-based data literacy continuum that bridges these data divides. Data leaders will leave with a framework they can use to foster confidence and growth to empower their data teams. \n \nAfter participating in this workshop\, you will be able to: \n\nUnderstand the evidence-based data literacy continuum utilizing Bloom’s taxonomy\nRecognize where people are on the continuum\nHow to empower and support others in progressing along the continuum\n\n\n\n\n\n\n\n\n\nRegister
URL:https://tll.mit.edu/event/leading-with-data-overcoming-the-data-divides/
LOCATION:Virtual
CATEGORIES:Data Talks
ATTACH;FMTTYPE=image/jpeg:https://tll.mit.edu/wp-content/uploads/2020/11/data-bridge.jpg
ORGANIZER;CN="Ryan MacDowell":MAILTO:rymac@mit.edu
END:VEVENT
BEGIN:VEVENT
DTSTART;TZID=America/New_York:20201119T160000
DTEND;TZID=America/New_York:20201119T170000
DTSTAMP:20260423T012529
CREATED:20201105T183126Z
LAST-MODIFIED:20231201T170140Z
UID:1859-1605801600-1605805200@tll.mit.edu
SUMMARY:Building community in the remote classroom
DESCRIPTION:Student learning and well-being are supported by the presence of a cohesive classroom community\, both in face-to-face learning as well as remote learning. \n\n\n\nOn Nov 19\, 2020\, Open Learning and TLL cohosted this xTalk panel discussion\, in which MIT instructors Simona Socrate\, Ari Epstein\, and Kang Zhou share how they have built and maintained community while teaching in a remote learning environment.  \n\n\n\n\n\n\n\nPanelists\n\n\n\nDr. Simona Socrate (2.001)\, Senior Lecturer\, Mechanical Engineering \n\n\n\nDr. Ari Epstein (12.000 co-instructor)\, Associate Director and Lecturer\, Terrascope \n\n\n\nMr. Kang Zhou (21G.109)\, Lecturer in Chinese\, Global Languages
URL:https://tll.mit.edu/event/building-community-in-the-remote-classroom/
LOCATION:Virtual
ATTACH;FMTTYPE=image/jpeg:https://tll.mit.edu/wp-content/uploads/2020/11/building-community-panel-2.jpg
ORGANIZER;CN="Ryan MacDowell":MAILTO:rymac@mit.edu
END:VEVENT
END:VCALENDAR