BEGIN:VCALENDAR
VERSION:2.0
PRODID:-//Teaching + Learning Lab - ECPv6.15.20//NONSGML v1.0//EN
CALSCALE:GREGORIAN
METHOD:PUBLISH
X-ORIGINAL-URL:https://tll.mit.edu
X-WR-CALDESC:Events for Teaching + Learning Lab
REFRESH-INTERVAL;VALUE=DURATION:PT1H
X-Robots-Tag:noindex
X-PUBLISHED-TTL:PT1H
BEGIN:VTIMEZONE
TZID:America/New_York
BEGIN:DAYLIGHT
TZOFFSETFROM:-0500
TZOFFSETTO:-0400
TZNAME:EDT
DTSTART:20230312T070000
END:DAYLIGHT
BEGIN:STANDARD
TZOFFSETFROM:-0400
TZOFFSETTO:-0500
TZNAME:EST
DTSTART:20231105T060000
END:STANDARD
BEGIN:DAYLIGHT
TZOFFSETFROM:-0500
TZOFFSETTO:-0400
TZNAME:EDT
DTSTART:20240310T070000
END:DAYLIGHT
BEGIN:STANDARD
TZOFFSETFROM:-0400
TZOFFSETTO:-0500
TZNAME:EST
DTSTART:20241103T060000
END:STANDARD
BEGIN:DAYLIGHT
TZOFFSETFROM:-0500
TZOFFSETTO:-0400
TZNAME:EDT
DTSTART:20250309T070000
END:DAYLIGHT
BEGIN:STANDARD
TZOFFSETFROM:-0400
TZOFFSETTO:-0500
TZNAME:EST
DTSTART:20251102T060000
END:STANDARD
BEGIN:DAYLIGHT
TZOFFSETFROM:-0500
TZOFFSETTO:-0400
TZNAME:EDT
DTSTART:20260308T070000
END:DAYLIGHT
BEGIN:STANDARD
TZOFFSETFROM:-0400
TZOFFSETTO:-0500
TZNAME:EST
DTSTART:20261101T060000
END:STANDARD
END:VTIMEZONE
BEGIN:VEVENT
DTSTART;TZID=America/New_York:20240715T120000
DTEND;TZID=America/New_York:20240721T235900
DTSTAMP:20260419T171519
CREATED:20231106T195620Z
LAST-MODIFIED:20240701T214049Z
UID:7419-1721044800-1721606340@tll.mit.edu
SUMMARY:Application Period for the Summer 2024 Subject Design Track
DESCRIPTION:About the Program\n\n\n\nThe Subject Design Track is a sequence of three interactive 2-hour workshops focused on course design. Participants will learn to build a course by first identifying goals and then organizing assignments and content to align with these goals. Over the course of the program\, participants will develop a syllabus for a course of their choice with feedback from the instructor. All workshops will take place on Zoom. \n\n\n\nVisit our page on Grad Teaching Development Tracks to learn more. \n\n\n\n\n\n\n\nWorkshop TitleIntended Learning Outcomes (ILOs)Date & TimeDefine Your Goals and ScopeDescribe the elements of the backward design process.Identify and articulate learning outcomes for a course you wish to teach.Identify evidence of a supportive learning environment in existing syllabi.Thu\, Aug 8\, 2:00 – 4:00 pm (ET)Plan Your AssessmentsOutline a unit from the course you wish to teach\, including unit-level learning outcomes that align with course-level outcomes and a narrative description of the unit.Identify an appropriate summative assessment method that aligns with discipline priorities and the intended learning outcomes of the unit.Design assessments that support belonging and equity. Outline a unit from the course you wish to teach\, including unit-level learning outcomes that align with course-level outcomes and a narrative description of the unit.Thu\, Aug 15\, 2:00 – 4:00 pm (ET)Draft Your SyllabusDescribe how a student-centered syllabus differs from a content-centered syllabus.Articulate course policies that align with learning outcomes and teaching philosophy.Write a student-centered syllabus based on components developed over the course of the Subject Design TrackThu\, Aug 22\, 2:00 – 4:00 pm (ET)FacilitatorBen Hansberry\, Associate Director for Graduate Student Teaching\, Teaching + Learning Lab \n\n\n\n\n\n\n\nHow to Apply\n\n\n\nThe application window will be open from 12:00 noon Monday\, July 15\, through 11:59 pm Sunday\, July 21. Participants from previous workshop tracks are given priority. The remaining applications will be selected on a first-come\, first-served basis. Applications must be received by the deadline to be considered. \n\n\n\n\n\n\n\n\nApply
URL:https://tll.mit.edu/event/su24-sdt/
CATEGORIES:tracks
ATTACH;FMTTYPE=image/jpeg:https://tll.mit.edu/wp-content/uploads/2023/06/Subject-Design-Track_featured.jpg
END:VEVENT
BEGIN:VEVENT
DTSTART;TZID=America/New_York:20250127T120000
DTEND;TZID=America/New_York:20250131T120000
DTSTAMP:20260419T171519
CREATED:20240731T190616Z
LAST-MODIFIED:20250114T172602Z
UID:8632-1737979200-1738324800@tll.mit.edu
SUMMARY:Registration for IAP 2025 Teaching Days NOW OPEN.
DESCRIPTION:IAP 2025 Teaching Days: Monday\, January 27 through Friday\, January 31 \n\n\n\nBefore the start of each semester\, TLL offers a series of workshops for TAs and teacher trainees to help them prepare for the roles and responsibilities of the position of teaching at MIT. Topics include giving feedback\, presenting a class session\, and facilitating office hours\, among other practical subjects related to teaching. Please visit our Teaching Days page to view the full schedule and detailed descriptions of the workshops. Registration is now open via Canvas. (Link below.) \n\n\n\nPlease note that the IAP 2025 Teaching Days schedule includes a mix of in-person and online sessions.
URL:https://tll.mit.edu/event/iap25-teaching-days/
CATEGORIES:Teaching Days
ATTACH;FMTTYPE=image/jpeg:https://tll.mit.edu/wp-content/uploads/2025/01/Featured_Teach-Days_IAP25.jpg
END:VEVENT
END:VCALENDAR